BEGIN:VCALENDAR
VERSION:2.0
PRODID:-//Milana Marsenich - ECPv6.15.20//NONSGML v1.0//EN
CALSCALE:GREGORIAN
METHOD:PUBLISH
X-WR-CALNAME:Milana Marsenich
X-ORIGINAL-URL:https://milanamarsenich.com
X-WR-CALDESC:Events for Milana Marsenich
REFRESH-INTERVAL;VALUE=DURATION:PT1H
X-Robots-Tag:noindex
X-PUBLISHED-TTL:PT1H
BEGIN:VTIMEZONE
TZID:America/Denver
BEGIN:DAYLIGHT
TZOFFSETFROM:-0700
TZOFFSETTO:-0600
TZNAME:MDT
DTSTART:20220313T090000
END:DAYLIGHT
BEGIN:STANDARD
TZOFFSETFROM:-0600
TZOFFSETTO:-0700
TZNAME:MST
DTSTART:20221106T080000
END:STANDARD
BEGIN:DAYLIGHT
TZOFFSETFROM:-0700
TZOFFSETTO:-0600
TZNAME:MDT
DTSTART:20230312T090000
END:DAYLIGHT
BEGIN:STANDARD
TZOFFSETFROM:-0600
TZOFFSETTO:-0700
TZNAME:MST
DTSTART:20231105T080000
END:STANDARD
BEGIN:DAYLIGHT
TZOFFSETFROM:-0700
TZOFFSETTO:-0600
TZNAME:MDT
DTSTART:20240310T090000
END:DAYLIGHT
BEGIN:STANDARD
TZOFFSETFROM:-0600
TZOFFSETTO:-0700
TZNAME:MST
DTSTART:20241103T080000
END:STANDARD
END:VTIMEZONE
BEGIN:VTIMEZONE
TZID:America/Los_Angeles
BEGIN:DAYLIGHT
TZOFFSETFROM:-0800
TZOFFSETTO:-0700
TZNAME:PDT
DTSTART:20170312T100000
END:DAYLIGHT
BEGIN:STANDARD
TZOFFSETFROM:-0700
TZOFFSETTO:-0800
TZNAME:PST
DTSTART:20171105T090000
END:STANDARD
BEGIN:DAYLIGHT
TZOFFSETFROM:-0800
TZOFFSETTO:-0700
TZNAME:PDT
DTSTART:20180311T100000
END:DAYLIGHT
BEGIN:STANDARD
TZOFFSETFROM:-0700
TZOFFSETTO:-0800
TZNAME:PST
DTSTART:20181104T090000
END:STANDARD
BEGIN:DAYLIGHT
TZOFFSETFROM:-0800
TZOFFSETTO:-0700
TZNAME:PDT
DTSTART:20190310T100000
END:DAYLIGHT
BEGIN:STANDARD
TZOFFSETFROM:-0700
TZOFFSETTO:-0800
TZNAME:PST
DTSTART:20191103T090000
END:STANDARD
END:VTIMEZONE
BEGIN:VEVENT
DTSTART;TZID=America/Denver:20230401T090000
DTEND;TZID=America/Denver:20230401T160000
DTSTAMP:20260417T180805
CREATED:20230225T163107Z
LAST-MODIFIED:20230225T163107Z
UID:1511-1680339600-1680364800@milanamarsenich.com
SUMMARY:Spring Art and Craft Show 2023
DESCRIPTION:I will be at the Big Sky Art and Craft Show in Helena\, Montana\, Saturday\, April 1\, 2023 with books! If you are in the area\, please stop by my table and say hello! \nSaturday\, April 1\, 2023 from 9am to 4pm \nAt the Helena Civic Center Ballroom \nHelena Civic Center\n340 Neill Ave\nHelena\, MT 59601 \nhttps://www.bigskyartandcraftshow.com/ \n \n 
URL:https://milanamarsenich.com/event/spring-art-and-craft-show-2023/
LOCATION:Helena Civic Center Ballroom\, 340 Neill Ave\, Helena\, MT\, 59601\, United States
END:VEVENT
BEGIN:VEVENT
DTSTART;TZID=America/Los_Angeles:20181027T083000
DTEND;TZID=America/Los_Angeles:20181027T093000
DTSTAMP:20260417T180805
CREATED:20180912T005034Z
LAST-MODIFIED:20180912T005555Z
UID:856-1540629000-1540632600@milanamarsenich.com
SUMMARY:Women Writing the West Conference
DESCRIPTION:Milana Marsenich will be giving presentation at the Women Writing the West conference in Walla Walla\, WA Saturday\, Oct. 27 at 8:30 am.  \nDETAILS: \nPsychology\, Love\, and Character – Milana Marsenich The presentation will explore “love” in many facets\, such as: how people love\, who and what they love\, who loves them\, what’s at stake for them in love\, what do they fear about in love\, how they avoid love\, how they react in love when they are desperate or feel a loss pending\, how do they develop with a lack of love\, how do they withhold love and react when others withhold love from them. We’ll then apply psychological concepts within the framework of love’s exploration to character development.
URL:https://milanamarsenich.com/event/women-writing-the-west-conference/
LOCATION:Marcus Whitman Hotel\, 6 W Rose St\, Walla Walla\, WA\, 99362
CATEGORIES:Presentations
ATTACH;FMTTYPE=image/jpeg:https://milanamarsenich.com/wp-content/uploads/2018/09/Women-Writing-The-West-Conference-Banner.jpg
END:VEVENT
BEGIN:VEVENT
DTSTART;TZID=America/Los_Angeles:20180929T140000
DTEND;TZID=America/Los_Angeles:20180929T170000
DTSTAMP:20260417T180805
CREATED:20180912T004612Z
LAST-MODIFIED:20180912T005910Z
UID:851-1538229600-1538240400@milanamarsenich.com
SUMMARY:Montana Book Festival
DESCRIPTION:Milana Marsenich will be a panelist at the Montana Book Festival in Missoula\, MT \nThis event is happening Saturday Sept. 29 at 2:00\, and is called “It’s never too late” about coming to a writing career later in life.
URL:https://milanamarsenich.com/event/montana-book-festival/
LOCATION:Montana Book Festival\, 200 S Pattee Mt\, Missoula\, MT\, 59802\, United States
CATEGORIES:Panelist
ATTACH;FMTTYPE=image/jpeg:https://milanamarsenich.com/wp-content/uploads/2018/09/Montana-Book-Festival-Logo.jpg
END:VEVENT
END:VCALENDAR